BEGIN:VCALENDAR
VERSION:2.0
PRODID:-//Anoka County Bar Association - ECPv6.7.0//NONSGML v1.0//EN
CALSCALE:GREGORIAN
METHOD:PUBLISH
X-ORIGINAL-URL:https://anokabar.com
X-WR-CALDESC:Events for Anoka County Bar Association
REFRESH-INTERVAL;VALUE=DURATION:PT1H
X-Robots-Tag:noindex
X-PUBLISHED-TTL:PT1H
BEGIN:VTIMEZONE
TZID:America/Chicago
BEGIN:DAYLIGHT
TZOFFSETFROM:-0600
TZOFFSETTO:-0500
TZNAME:CDT
DTSTART:20250309T080000
END:DAYLIGHT
BEGIN:STANDARD
TZOFFSETFROM:-0500
TZOFFSETTO:-0600
TZNAME:CST
DTSTART:20251102T070000
END:STANDARD
END:VTIMEZONE
BEGIN:VEVENT
DTSTART;VALUE=DATE:20250220
DTEND;VALUE=DATE:20250221
DTSTAMP:20260424T231538
CREATED:20250122T231532Z
LAST-MODIFIED:20250123T145724Z
UID:2621-1740009600-1740095999@anokabar.com
SUMMARY:February 20\, 2025 CLE by Sarah MacGillis
DESCRIPTION:Please join us on Thursday\, February 20\, 2025\, from noon to 1:00 p.m. via Zoom for the ACBA’s February CLE.  Sarah MacGillis with Lawyers Concerned for Lawyers will share her knowledge on understanding and managing secondary trauma throughout the legal profession. \nEffective July 1\, 2024\, each Minnesota lawyer must report no fewer than 1 hour of approved courses in mental health and substance use in the legal profession and in the practice of law.  The ACBA has applied to qualify this CLE to meet that new category. \nCLE Credit: Mental Health and Chemical Use Credit Applied For. \nClick here to register.
URL:https://anokabar.com/event/february-20-2025-cle-by-sarah-macgillis/
END:VEVENT
END:VCALENDAR