BEGIN:VCALENDAR
VERSION:2.0
PRODID:-//Anoka County Bar Association - ECPv6.7.0//NONSGML v1.0//EN
CALSCALE:GREGORIAN
METHOD:PUBLISH
X-ORIGINAL-URL:https://anokabar.com
X-WR-CALDESC:Events for Anoka County Bar Association
REFRESH-INTERVAL;VALUE=DURATION:PT1H
X-Robots-Tag:noindex
X-PUBLISHED-TTL:PT1H
BEGIN:VTIMEZONE
TZID:America/Chicago
BEGIN:DAYLIGHT
TZOFFSETFROM:-0600
TZOFFSETTO:-0500
TZNAME:CDT
DTSTART:20250309T080000
END:DAYLIGHT
BEGIN:STANDARD
TZOFFSETFROM:-0500
TZOFFSETTO:-0600
TZNAME:CST
DTSTART:20251102T070000
END:STANDARD
END:VTIMEZONE
BEGIN:VEVENT
DTSTART;VALUE=DATE:20250424
DTEND;VALUE=DATE:20250425
DTSTAMP:20260423T090949
CREATED:20250321T143700Z
LAST-MODIFIED:20250321T150552Z
UID:2628-1745452800-1745539199@anokabar.com
SUMMARY:April CLE: Determining Income for Child Support and Spousal Maintenance
DESCRIPTION:Please join us on April 24\, 2025\, at noon via Zoom\, for Magistrate Karen Kugler’s presentation on determining income for child support and spousal maintenance.  Magistrate Kugler is a Child Support Magistrate in the Tenth Judicial District.  Prior to her appointment in 2022\, she practiced in the areas of family and as an ADR provider.  Magistrate Kugler was also chair of the Minnesota State Bar Association’s Family Law Section from 2010 to 2012.  She has a wealth of knowledge in family law and regularly presents CLE’s on family law topics.  We are excited that she is able to present on this topic to ACBA members. \nTo register and access the presentation please click this link.
URL:https://anokabar.com/event/save-the-date-for-april-cle-determining-income-for-child-support-and-spousal-maintenance/
END:VEVENT
END:VCALENDAR