BEGIN:VCALENDAR
VERSION:2.0
PRODID:-//Anoka County Bar Association - ECPv6.7.0//NONSGML v1.0//EN
CALSCALE:GREGORIAN
METHOD:PUBLISH
X-ORIGINAL-URL:https://anokabar.com
X-WR-CALDESC:Events for Anoka County Bar Association
REFRESH-INTERVAL;VALUE=DURATION:PT1H
X-Robots-Tag:noindex
X-PUBLISHED-TTL:PT1H
BEGIN:VTIMEZONE
TZID:America/Chicago
BEGIN:DAYLIGHT
TZOFFSETFROM:-0600
TZOFFSETTO:-0500
TZNAME:CDT
DTSTART:20250309T080000
END:DAYLIGHT
BEGIN:STANDARD
TZOFFSETFROM:-0500
TZOFFSETTO:-0600
TZNAME:CST
DTSTART:20251102T070000
END:STANDARD
END:VTIMEZONE
BEGIN:VEVENT
DTSTART;VALUE=DATE:20250910
DTEND;VALUE=DATE:20250911
DTSTAMP:20260422T170014
CREATED:20250811T192202Z
LAST-MODIFIED:20250811T195755Z
UID:2763-1757462400-1757548799@anokabar.com
SUMMARY:ACBA 2025 Legislative Update
DESCRIPTION:Join us on September 10\, 2025\, in person\, for the 2025 Legislative Update. \nAssistant Anoka County attorneys Lindsay J. Allgood and Kyle Peterson will present the annual informative Legislative Update on changes passed during the 2025 Minnesota legislative session and special sessions. \nAttendance is free.  An optional sandwich lunch can be purchased for $15.00. Lunch payments must be made via PayPal upon registration. Payments must be received no later than September 8\, 2025. \nThe CLE begins at 12:00 p.m.\, in Room 710 of the Anoka County Government Center. \nCLE credit: 1.0 credit to be applied for.
URL:https://anokabar.com/event/acba-2025-legislative-update/
LOCATION:Anoka County Government Center\, 2100 3rd Avenue\, Room 710\, Anoka\, MN\, 55303\, United States
END:VEVENT
END:VCALENDAR