BEGIN:VCALENDAR
VERSION:2.0
PRODID:-//Anoka County Bar Association - ECPv6.7.0//NONSGML v1.0//EN
CALSCALE:GREGORIAN
METHOD:PUBLISH
X-ORIGINAL-URL:https://anokabar.com
X-WR-CALDESC:Events for Anoka County Bar Association
REFRESH-INTERVAL;VALUE=DURATION:PT1H
X-Robots-Tag:noindex
X-PUBLISHED-TTL:PT1H
BEGIN:VTIMEZONE
TZID:America/Chicago
BEGIN:DAYLIGHT
TZOFFSETFROM:-0600
TZOFFSETTO:-0500
TZNAME:CDT
DTSTART:20250309T080000
END:DAYLIGHT
BEGIN:STANDARD
TZOFFSETFROM:-0500
TZOFFSETTO:-0600
TZNAME:CST
DTSTART:20251102T070000
END:STANDARD
END:VTIMEZONE
BEGIN:VEVENT
DTSTART;VALUE=DATE:20250522
DTEND;VALUE=DATE:20250523
DTSTAMP:20260422T213534
CREATED:20250410T215940Z
LAST-MODIFIED:20250410T220216Z
UID:2634-1747872000-1747958399@anokabar.com
SUMMARY:May CLE: Attorney Discipline: 2024 Year in Review
DESCRIPTION:Please join us on May 22\, 2025\, at noon via Zoom\, when Deanna Natoli\, a senior assistant director from the Office of Lawyers Professional Responsibility\, will review attorney discipline cases from 2024 and provide insight to attendees on avoiding ethical pitfalls. \n  \nDeanna Natoli joined the Office of Lawyers Professional Responsibility in November 2021 after spending over 11 years as a criminal prosecutor in both Minnesota (Dakota and Isanti counties) and Michigan (Eaton County). Deanna is a member of the Minnesota State Bar Association and has volunteered as an MSBA Mock Trial judge.  Deanna previously served on the Minnesota County Attorney Association’s Appellate and Diversity committees and is a proud Michigan State University alumna. \nPlease register and access the CLE using this link:  Click here \n 
URL:https://anokabar.com/event/may-cle-attorney-discipline-2024-year-in-review/
END:VEVENT
END:VCALENDAR