BEGIN:VCALENDAR
VERSION:2.0
PRODID:-//Anoka County Bar Association - ECPv6.7.0//NONSGML v1.0//EN
CALSCALE:GREGORIAN
METHOD:PUBLISH
X-WR-CALNAME:Anoka County Bar Association
X-ORIGINAL-URL:https://anokabar.com
X-WR-CALDESC:Events for Anoka County Bar Association
REFRESH-INTERVAL;VALUE=DURATION:PT1H
X-Robots-Tag:noindex
X-PUBLISHED-TTL:PT1H
BEGIN:VTIMEZONE
TZID:America/Chicago
BEGIN:DAYLIGHT
TZOFFSETFROM:-0600
TZOFFSETTO:-0500
TZNAME:CDT
DTSTART:20250309T080000
END:DAYLIGHT
BEGIN:STANDARD
TZOFFSETFROM:-0500
TZOFFSETTO:-0600
TZNAME:CST
DTSTART:20251102T070000
END:STANDARD
END:VTIMEZONE
BEGIN:VEVENT
DTSTART;VALUE=DATE:20250612
DTEND;VALUE=DATE:20250613
DTSTAMP:20260422T201319
CREATED:20250422T214524Z
LAST-MODIFIED:20250527T131743Z
UID:2639-1749686400-1749772799@anokabar.com
SUMMARY:ACBA Judges' Day Golf and Dinner
DESCRIPTION:Join us on June 12\, 2025\, for Judges’ Day and the ACBA Annual Meeting! Festivities include golf and dinner at the Links at Northfork. \nStart finding your four (4) person team now! Golf begins at 12:30 p.m.\, but get there early for access to the practice facilities. Please indicate your team on your registration form. Don’t have a team? No worries. Organizers will arrange teams. \nYou do not need to golf to attend the Annual Meeting and dinner! \nSocial hour begins at 5:00 p.m. The annual meeting and dinner begin at 6:00 p.m. The menu is Chicken Saltimbocca\, Caesar Salad\, Garlic Mashed Potatoes\, Key Largo Veggies (Asparagus and Peppers)\, and Dinner Rolls. \nThe cost is $80 per person for golf\, which includes two free drink tickets. Dinner is $30 per person or waived for current/retired judges. \nRegister by June 3\, 2025.
URL:https://anokabar.com/event/acba-judges-day-golf-and-dinner/
LOCATION:Links at Northfork\, 9333 Alpine Dr NW\, Ramsey\, MN\, 55303\, United States
END:VEVENT
END:VCALENDAR