BEGIN:VCALENDAR
VERSION:2.0
PRODID:-//Anoka County Bar Association - ECPv6.7.0//NONSGML v1.0//EN
CALSCALE:GREGORIAN
METHOD:PUBLISH
X-WR-CALNAME:Anoka County Bar Association
X-ORIGINAL-URL:https://anokabar.com
X-WR-CALDESC:Events for Anoka County Bar Association
REFRESH-INTERVAL;VALUE=DURATION:PT1H
X-Robots-Tag:noindex
X-PUBLISHED-TTL:PT1H
BEGIN:VTIMEZONE
TZID:America/Chicago
BEGIN:DAYLIGHT
TZOFFSETFROM:-0600
TZOFFSETTO:-0500
TZNAME:CDT
DTSTART:20250309T080000
END:DAYLIGHT
BEGIN:STANDARD
TZOFFSETFROM:-0500
TZOFFSETTO:-0600
TZNAME:CST
DTSTART:20251102T070000
END:STANDARD
END:VTIMEZONE
BEGIN:VEVENT
DTSTART;VALUE=DATE:20251023
DTEND;VALUE=DATE:20251024
DTSTAMP:20260422T141001
CREATED:20250918T191429Z
LAST-MODIFIED:20251016T143637Z
UID:2828-1761177600-1761263999@anokabar.com
SUMMARY:ACBA Annual Fall Dinner
DESCRIPTION:Save the Date for the Anoka County Bar Association Annual Member Dinner\, October 23\, 2025\, at the Mill Site in Anoka. Social hour will begin at 5:00 p.m.\, followed by dinner at 6:00 p.m.\, and CLE Presentation by Sarah MacGillis at 6:30 p.m. \nThe Anoka County Bar Association is pleased to announce that registration for our Annual Member Dinner is opening soon! The dinner will include a social hour\, catered dinner\, and a CLE presentation by Sarah MacGillis. \nMs. MacGillis joined LCL as Outreach Director after a 27-year career in litigation. With a deep-seated compassion and genuine interest in people\, Sarah is dedicated to ensuring attorneys receive robust targeted support\, providing them with swift and easy access to essential tools when they are needed. \nSarah’s full bio can be found on the LCL website. \nShe will present a CLE designed to educate attorneys about perfectionism generally and explain its evolution from a mental health problem to a desirable trait to precursor to mental health problem over time. \nPlease register before October 16\, 2025.
URL:https://anokabar.com/event/save-the-date-fall-dinner/
LOCATION:The Mill Site\, 111 Harrison St\, Anoka\, MN\, 55303\, United States
END:VEVENT
END:VCALENDAR